BEGIN:VCALENDAR
VERSION:2.0
CALSCALE:GREGORIAN
PRODID:-//Diputació de Barcelona//DibaCMS//EN
BEGIN:VEVENT
UID:57128
DTSTAMP:20260420T163827
DTSTART:20231112T100000
DTEND:20231112T140000
SUMMARY:Mercat Boig
LOCATION:Passeig Europa de les Nacions. 
METHOD:PUBLISH
X-WR-CALNAME:info@llinarsdelvalles.cat
X-WR-TIMEZONE:Europe/Madrid
DESCRIPTION:
URI:https://www.llinarsdelvalles.cat/actualitat/agenda/57128-mercat-boig.html
CLASS:PUBLIC
END:VEVENT
END:VCALENDAR
