BEGIN:VCALENDAR
VERSION:2.0
CALSCALE:GREGORIAN
PRODID:-//Diputació de Barcelona//DibaCMS//EN
BEGIN:VEVENT
UID:57130
DTSTAMP:20260421T000355
DTSTART:20231101T180000
DTEND:20231101T180000
SUMMARY:Presentació de la nova temporada del CB Llinars
LOCATION:Av. Pau Casals, 18-20 (Àrea central) 08450 Llinars del Vallès
METHOD:PUBLISH
X-WR-CALNAME:info@llinarsdelvalles.cat
X-WR-TIMEZONE:Europe/Madrid
DESCRIPTION:
URI:https://www.llinarsdelvalles.cat/actualitat/agenda/presentacio-de-la-nova-temporada-del-cb-llinars.html
CLASS:PUBLIC
END:VEVENT
END:VCALENDAR
