BEGIN:VCALENDAR
VERSION:2.0
CALSCALE:GREGORIAN
PRODID:-//Diputació de Barcelona//DibaCMS//EN
BEGIN:VEVENT
UID:57138
DTSTAMP:20260420T230206
DTSTART:20231117T183000
DTEND:20231117T183000
SUMMARY:Xerrada "Com és d'important la música pels publicitaris"
LOCATION:Av. Pau Casals, 26 08450 Llinars del Vallès
METHOD:PUBLISH
X-WR-CALNAME:info@llinarsdelvalles.cat
X-WR-TIMEZONE:Europe/Madrid
DESCRIPTION:A càrrec de Jaume Badrenas.
Projecte Música a fons.

URI:https://www.llinarsdelvalles.cat/actualitat/agenda/xerrada-com-es-dimportant-la-musica-pels-publicitaris.html
CLASS:PUBLIC
END:VEVENT
END:VCALENDAR
