BEGIN:VCALENDAR
VERSION:2.0
CALSCALE:GREGORIAN
PRODID:-//Diputació de Barcelona//DibaCMS//EN
BEGIN:VEVENT
UID:57141
DTSTAMP:20260421T002938
DTSTART:20231106T000000
DTEND:20231124T000000
SUMMARY:Exposició "La lluita per la bassa del Pla de Can Tàpies"
LOCATION:Av. Pau Casals, 26 08450 Llinars del Vallès
METHOD:PUBLISH
X-WR-CALNAME:info@llinarsdelvalles.cat
X-WR-TIMEZONE:Europe/Madrid
DESCRIPTION:A càrrec del Col·lectiu "Salvem la Bassa".

URI:https://www.llinarsdelvalles.cat/actualitat/agenda/exposicio-la-lluita-per-la-bassa-del-pla-de-can-tapies.html
CLASS:PUBLIC
END:VEVENT
END:VCALENDAR
