BEGIN:VCALENDAR
VERSION:2.0
CALSCALE:GREGORIAN
PRODID:-//Diputació de Barcelona//DibaCMS//EN
BEGIN:VEVENT
UID:57142
DTSTAMP:20260421T034806
DTSTART:20231103T000000
DTEND:20231128T000000
SUMMARY:Exposició "Tardor al Montseny"
LOCATION:Av. Pau Casals, 26 08450 Llinars del Vallès
METHOD:PUBLISH
X-WR-CALNAME:info@llinarsdelvalles.cat
X-WR-TIMEZONE:Europe/Madrid
DESCRIPTION:Fotografies d'Antonio Velasco.

URI:https://www.llinarsdelvalles.cat/actualitat/agenda/exposicio-tardor-al-montseny.html
CLASS:PUBLIC
END:VEVENT
END:VCALENDAR
