BEGIN:VCALENDAR
VERSION:2.0
CALSCALE:GREGORIAN
PRODID:-//Diputació de Barcelona//DibaCMS//EN
BEGIN:VEVENT
UID:57145
DTSTAMP:20260420T161938
DTSTART:20231115T170000
DTEND:20231115T170000
SUMMARY:Especial conte "Frederick" de Leo Lionni
LOCATION:Av. Pau Casals, 26 08450 Llinars del Vallès
METHOD:PUBLISH
X-WR-CALNAME:info@llinarsdelvalles.cat
X-WR-TIMEZONE:Europe/Madrid
DESCRIPTION:A càrrec de Laura Asensio.

A partir de 3 anys.

URI:https://www.llinarsdelvalles.cat/actualitat/agenda/especial-conte-frederick-de-leo-lionni.html
CLASS:PUBLIC
END:VEVENT
END:VCALENDAR
