BEGIN:VCALENDAR
VERSION:2.0
CALSCALE:GREGORIAN
PRODID:-//Diputació de Barcelona//DibaCMS//EN
BEGIN:VEVENT
UID:57146
DTSTAMP:20260421T001615
DTSTART:20231106T173000
DTEND:20231106T190000
SUMMARY:Com interpretar les meves factures de llum i gas
LOCATION:Av. Pau Casals, 26 08450 Llinars del Vallès
METHOD:PUBLISH
X-WR-CALNAME:info@llinarsdelvalles.cat
X-WR-TIMEZONE:Europe/Madrid
DESCRIPTION:Xerrada organitzada per la OMIC. 

URI:https://www.llinarsdelvalles.cat/actualitat/agenda/com-interpretar-les-meves-factures-de-llum-i-gas.html
CLASS:PUBLIC
END:VEVENT
END:VCALENDAR
