BEGIN:VCALENDAR
VERSION:2.0
CALSCALE:GREGORIAN
PRODID:-//Diputació de Barcelona//DibaCMS//EN
BEGIN:VEVENT
UID:57147
DTSTAMP:20260420T213343
DTSTART:20231103T183000
DTEND:20231103T183000
SUMMARY:Presentació "Urbanitas salvajes del cosmos"
LOCATION:Av. Pau Casals, 26 08450 Llinars del Vallès
METHOD:PUBLISH
X-WR-CALNAME:info@llinarsdelvalles.cat
X-WR-TIMEZONE:Europe/Madrid
DESCRIPTION:A càrrec de Francisco Pérez Arnedos, autor, i Joan Méndez, professor de filosofia.

 

URI:https://www.llinarsdelvalles.cat/actualitat/agenda/presentacio-urbanitas-salvajes-del-cosmos.html
CLASS:PUBLIC
END:VEVENT
END:VCALENDAR
