BEGIN:VCALENDAR
VERSION:2.0
CALSCALE:GREGORIAN
PRODID:-//Diputació de Barcelona//DibaCMS//EN
BEGIN:VEVENT
UID:57149
DTSTAMP:20260420T212414
DTSTART:20231118T100000
DTEND:20231118T130000
SUMMARY:Sortida " Tresores naturals de la Plana de linars: alzinar madur, bosc de ribera i ecosistemes aquàtics"
LOCATION:Av. Pau Casals, 26 08450 Llinars del Vallès
METHOD:PUBLISH
X-WR-CALNAME:info@llinarsdelvalles.cat
X-WR-TIMEZONE:Europe/Madrid
DESCRIPTION:A càrrec d'un expert de l'Escola de Natura del Corredor. Programa Parcs i biblioteques... naturalment!

URI:https://www.llinarsdelvalles.cat/actualitat/agenda/sortida--tresores-naturals-de-la-plana-de-linars-alzinar-madur-bosc-de-ribera-i-ecosistemes-aquatics.html
CLASS:PUBLIC
END:VEVENT
END:VCALENDAR
