BEGIN:VCALENDAR
VERSION:2.0
CALSCALE:GREGORIAN
PRODID:-//Diputació de Barcelona//DibaCMS//EN
BEGIN:VEVENT
UID:57150
DTSTAMP:20260420T173241
DTSTART:20231128T173000
DTEND:20231128T173000
SUMMARY:Story Time "Little Red Riding Hood"
LOCATION:Av. Pau Casals, 26 08450 Llinars del Vallès
METHOD:PUBLISH
X-WR-CALNAME:info@llinarsdelvalles.cat
X-WR-TIMEZONE:Europe/Madrid
DESCRIPTION:Amb professor nadiu de Cambridge School.

Per a infants de 3 a 7 anys.

URI:https://www.llinarsdelvalles.cat/actualitat/agenda/story-time-little-red-riding-hood.html
CLASS:PUBLIC
END:VEVENT
END:VCALENDAR
