BEGIN:VCALENDAR
VERSION:2.0
CALSCALE:GREGORIAN
PRODID:-//Diputació de Barcelona//DibaCMS//EN
BEGIN:VEVENT
UID:57151
DTSTAMP:20260420T212425
DTSTART:20231108T103000
DTEND:20231108T123000
SUMMARY:Taller de memòria "Juguem a Memory i a Poetic Memory"
LOCATION:Av. Pau Casals, 26 08450 Llinars del Vallès
METHOD:PUBLISH
X-WR-CALNAME:info@llinarsdelvalles.cat
X-WR-TIMEZONE:Europe/Madrid
DESCRIPTION:Activitat a la Biblioteca Can Casas, dins del Projecte Transformador CulturaMENT.

Reserves: info@teatreauditorillinars.cat
Gratuït: obert a tothom

URI:https://www.llinarsdelvalles.cat/actualitat/agenda/taller-de-memoria-juguem-a-memory-i-a-poetic-memory.html
CLASS:PUBLIC
END:VEVENT
END:VCALENDAR
