BEGIN:VCALENDAR
VERSION:2.0
CALSCALE:GREGORIAN
PRODID:-//Diputació de Barcelona//DibaCMS//EN
BEGIN:VEVENT
UID:57153
DTSTAMP:20260421T022318
DTSTART:20231110T173000
DTEND:20231110T193000
SUMMARY:Taller infantil d'impressió 3D
LOCATION:Av. Pau Casals, 26 08450 Llinars del Vallès
METHOD:PUBLISH
X-WR-CALNAME:info@llinarsdelvalles.cat
X-WR-TIMEZONE:Europe/Madrid
DESCRIPTION:A càrrec d'Edukem-nos.

De 10 a 14 anys. Inscripcions: www.bibliotecacancasas.cat

URI:https://www.llinarsdelvalles.cat/actualitat/agenda/taller-infantil-dimpressio-3d.html
CLASS:PUBLIC
END:VEVENT
END:VCALENDAR
