BEGIN:VCALENDAR
VERSION:2.0
CALSCALE:GREGORIAN
PRODID:-//Diputació de Barcelona//DibaCMS//EN
BEGIN:VEVENT
UID:57166
DTSTAMP:20260420T162055
DTSTART:20231113T000000
DTEND:20231119T000000
SUMMARY:Setmana de l'Art "Rostre i emoció"
LOCATION:C/ Frederic Marés (antic CAP) 08450 Llinars del Vallès
METHOD:PUBLISH
X-WR-CALNAME:info@llinarsdelvalles.cat
X-WR-TIMEZONE:Europe/Madrid
DESCRIPTION:L’Espai d’Art de Llinars et proposa que entris dins l’espai i que et converteixis en artista!

URI:https://www.llinarsdelvalles.cat/actualitat/agenda/setmana-de-lart-rostre-i-emocio.html
CLASS:PUBLIC
END:VEVENT
END:VCALENDAR
