BEGIN:VCALENDAR
VERSION:2.0
CALSCALE:GREGORIAN
PRODID:-//Diputació de Barcelona//DibaCMS//EN
BEGIN:VEVENT
UID:57170
DTSTAMP:20260420T212925
DTSTART:20231120T000000
DTEND:20231124T000000
SUMMARY:Taller d'higiene de la son
LOCATION:C/ Josep Argila, 39 08450 Llinars del Vallés
METHOD:PUBLISH
X-WR-CALNAME:info@llinarsdelvalles.cat
X-WR-TIMEZONE:Europe/Madrid
DESCRIPTION:Adreçat a persones a partir de 18 anys que tinguin problemes relacionats amb la son.

URI:https://www.llinarsdelvalles.cat/actualitat/agenda/57170-taller-dhigiene-de-la-son.html
CLASS:PUBLIC
END:VEVENT
END:VCALENDAR
