BEGIN:VCALENDAR
VERSION:2.0
CALSCALE:GREGORIAN
PRODID:-//Diputació de Barcelona//DibaCMS//EN
BEGIN:VEVENT
UID:57171
DTSTAMP:20260421T013440
DTSTART:20231119T120000
DTEND:20231119T120000
SUMMARY:Els grans duets per a veu i piano del romanticisme alemany
LOCATION:
METHOD:PUBLISH
X-WR-CALNAME:info@llinarsdelvalles.cat
X-WR-TIMEZONE:Europe/Madrid
DESCRIPTION:Últim concert del 25è cicle de Concerts a Sanata, que es celebrarà al Teatre Auditori.

URI:https://www.llinarsdelvalles.cat/actualitat/agenda/els-grans-duets-per-a-veu-i-piano-del-romanticisme-alemany.html
CLASS:PUBLIC
END:VEVENT
END:VCALENDAR
