BEGIN:VCALENDAR
VERSION:2.0
CALSCALE:GREGORIAN
PRODID:-//Diputació de Barcelona//DibaCMS//EN
BEGIN:VEVENT
UID:57172
DTSTAMP:20260421T092113
DTSTART:20231125T120000
DTEND:20231125T120000
SUMMARY:Commemoració del 25N
LOCATION:
METHOD:PUBLISH
X-WR-CALNAME:info@llinarsdelvalles.cat
X-WR-TIMEZONE:Europe/Madrid
DESCRIPTION:Dia Internacional per a l'eliminació de la violència contra les dones.

URI:https://www.llinarsdelvalles.cat/actualitat/agenda/57172-commemoracio-del-25n.html
CLASS:PUBLIC
END:VEVENT
END:VCALENDAR
