BEGIN:VCALENDAR
VERSION:2.0
CALSCALE:GREGORIAN
PRODID:-//Diputació de Barcelona//DibaCMS//EN
BEGIN:VEVENT
UID:57175
DTSTAMP:20260420T224104
DTSTART:20231125T090000
DTEND:20231125T090000
SUMMARY:Campionat de Catalunya de Karate
LOCATION:Av. Pau Casals, 18-20 (Àrea central) 08450 Llinars del Vallès
METHOD:PUBLISH
X-WR-CALNAME:info@llinarsdelvalles.cat
X-WR-TIMEZONE:Europe/Madrid
DESCRIPTION:Cadet, júnior i sènior de kius i dans de Karate.

URI:https://www.llinarsdelvalles.cat/actualitat/agenda/campionat-de-catalunya-de-karate.html
CLASS:PUBLIC
END:VEVENT
END:VCALENDAR
