BEGIN:VCALENDAR
VERSION:2.0
CALSCALE:GREGORIAN
PRODID:-//Diputació de Barcelona//DibaCMS//EN
BEGIN:VEVENT
UID:57178
DTSTAMP:20260421T053929
DTSTART:20231126T080000
DTEND:20231126T080000
SUMMARY:Excursió a Sant Llorenç de Morunys i Les Fonts dels Cardener
LOCATION:C/ Ramon i Cajal - (cantonada Av. Granollers) 08450 Llinars del Vallés
METHOD:PUBLISH
X-WR-CALNAME:info@llinarsdelvalles.cat
X-WR-TIMEZONE:Europe/Madrid
DESCRIPTION:Sortida organitzada per l'Associació de Gent Gran i Pensionista.

URI:https://www.llinarsdelvalles.cat/actualitat/agenda/excursio-a-sant-llorenc-de-morunys-i-les-fonts-dels-cardeners.html
CLASS:PUBLIC
END:VEVENT
END:VCALENDAR
