BEGIN:VCALENDAR
VERSION:2.0
CALSCALE:GREGORIAN
PRODID:-//Diputació de Barcelona//DibaCMS//EN
BEGIN:VEVENT
UID:57179
DTSTAMP:20260420T224517
DTSTART:20231126T180000
DTEND:20231126T180000
SUMMARY:Ball amb el Duet Ària
LOCATION:C/ Ramon i Cajal - (cantonada Av. Granollers) 08450 Llinars del Vallés
METHOD:PUBLISH
X-WR-CALNAME:info@llinarsdelvalles.cat
X-WR-TIMEZONE:Europe/Madrid
DESCRIPTION:Organitzat amb l'Associació de Gent Gran i Pensionista.

URI:https://www.llinarsdelvalles.cat/actualitat/agenda/ball-amb-el-duet-aria.html
CLASS:PUBLIC
END:VEVENT
END:VCALENDAR
