BEGIN:VCALENDAR
VERSION:2.0
CALSCALE:GREGORIAN
PRODID:-//Diputació de Barcelona//DibaCMS//EN
BEGIN:VEVENT
UID:57181
DTSTAMP:20260420T212701
DTSTART:20231125T120000
DTEND:20231125T120000
SUMMARY:Rally de clàssics
LOCATION:Sortida des de la Carpa del carrer Frederic Marès. 
METHOD:PUBLISH
X-WR-CALNAME:info@llinarsdelvalles.cat
X-WR-TIMEZONE:Europe/Madrid
DESCRIPTION:Organitzat per l'Associació Grup-5 ClassicRally.

URI:https://www.llinarsdelvalles.cat/actualitat/agenda/rally-de-classics.html
CLASS:PUBLIC
END:VEVENT
END:VCALENDAR
