BEGIN:VCALENDAR
VERSION:2.0
CALSCALE:GREGORIAN
PRODID:-//Diputació de Barcelona//DibaCMS//EN
BEGIN:VEVENT
UID:57187
DTSTAMP:20260421T003342
DTSTART:20231201T100000
DTEND:20231221T000000
SUMMARY:Exposició "La lluita per la bassa del Pla de Can Tàpies"
LOCATION:Av. Pau Casals, 26 08450 Llinars del Vallès
METHOD:PUBLISH
X-WR-CALNAME:info@llinarsdelvalles.cat
X-WR-TIMEZONE:Europe/Madrid
DESCRIPTION:A càrrec de: Col·lectiu Salvem la Bassa.

URI:https://www.llinarsdelvalles.cat/actualitat/agenda/57187-exposicio-la-lluita-per-la-bassa-del-pla-de-can-tapies.html
CLASS:PUBLIC
END:VEVENT
END:VCALENDAR
