BEGIN:VCALENDAR
VERSION:2.0
CALSCALE:GREGORIAN
PRODID:-//Diputació de Barcelona//DibaCMS//EN
BEGIN:VEVENT
UID:57189
DTSTAMP:20260420T151053
DTSTART:20231201T170000
DTEND:20231201T170000
SUMMARY:Hora del conte: Contes per sensibilitzar sobre la diversitat funcional
LOCATION:Av. Pau Casals, 26 08450 Llinars del Vallès
METHOD:PUBLISH
X-WR-CALNAME:info@llinarsdelvalles.cat
X-WR-TIMEZONE:Europe/Madrid
DESCRIPTION:A partir de 3 anys. Amb intèrpret en llengua de signes.

A càrrec de Núria Alonso

URI:https://www.llinarsdelvalles.cat/actualitat/agenda/hora-del-conte-contes-per-sensibilitzar-sobre-la-diversitat-funcional.html
CLASS:PUBLIC
END:VEVENT
END:VCALENDAR
