BEGIN:VCALENDAR
VERSION:2.0
CALSCALE:GREGORIAN
PRODID:-//Diputació de Barcelona//DibaCMS//EN
BEGIN:VEVENT
UID:57193
DTSTAMP:20260420T163908
DTSTART:20231212T183000
DTEND:20231212T183000
SUMMARY:Presentació "Historias de nada"
LOCATION:Av. Pau Casals, 26 08450 Llinars del Vallès
METHOD:PUBLISH
X-WR-CALNAME:info@llinarsdelvalles.cat
X-WR-TIMEZONE:Europe/Madrid
DESCRIPTION:A càrrec d'Enrique Collado, autor.

URI:https://www.llinarsdelvalles.cat/actualitat/agenda/presentacio-historias-de-nada.html
CLASS:PUBLIC
END:VEVENT
END:VCALENDAR
