BEGIN:VCALENDAR
VERSION:2.0
CALSCALE:GREGORIAN
PRODID:-//Diputació de Barcelona//DibaCMS//EN
BEGIN:VEVENT
UID:57194
DTSTAMP:20260420T172925
DTSTART:20231214T180000
DTEND:20231214T200000
SUMMARY:Taller adults "Menús nadalencs"
LOCATION:Av. Pau Casals, 26 08450 Llinars del Vallès
METHOD:PUBLISH
X-WR-CALNAME:info@llinarsdelvalles.cat
X-WR-TIMEZONE:Europe/Madrid
DESCRIPTION:A càrrec de Glòria Grau.

Inscripcions a www.bibliotecacancasas.cat

URI:https://www.llinarsdelvalles.cat/actualitat/agenda/taller-adults-menus-nadalencs.html
CLASS:PUBLIC
END:VEVENT
END:VCALENDAR
