BEGIN:VCALENDAR
VERSION:2.0
CALSCALE:GREGORIAN
PRODID:-//Diputació de Barcelona//DibaCMS//EN
BEGIN:VEVENT
UID:57195
DTSTAMP:20260420T201338
DTSTART:20231215T180000
DTEND:20231215T200000
SUMMARY:Taller familiar "Fem portaespelmes nadalencs"
LOCATION:Av. Pau Casals, 26 08450 Llinars del Vallès
METHOD:PUBLISH
X-WR-CALNAME:info@llinarsdelvalles.cat
X-WR-TIMEZONE:Europe/Madrid
DESCRIPTION:A càrrec de Catàrtic.

Públic familiar amb infants de 6 a 11 anys.

Inscripcions a www.bibliotecacancasas.cat

URI:https://www.llinarsdelvalles.cat/actualitat/agenda/taller-familiar-fem-portaespelmes-nadalencs.html
CLASS:PUBLIC
END:VEVENT
END:VCALENDAR
