BEGIN:VCALENDAR
VERSION:2.0
CALSCALE:GREGORIAN
PRODID:-//Diputació de Barcelona//DibaCMS//EN
BEGIN:VEVENT
UID:57197
DTSTAMP:20260421T024849
DTSTART:20231216T110000
DTEND:20231216T113000
SUMMARY:Hora menuda "On és el meu Tió?"
LOCATION:Av. Pau Casals, 26 08450 Llinars del Vallès
METHOD:PUBLISH
X-WR-CALNAME:info@llinarsdelvalles.cat
X-WR-TIMEZONE:Europe/Madrid
DESCRIPTION:A càrrec de Laura Asensio.

D'1 a 3 anys.

Inscripcions a www.bibliotecacancasas.cat

URI:https://www.llinarsdelvalles.cat/actualitat/agenda/hora-menuda-on-es-el-meu-tio.html
CLASS:PUBLIC
END:VEVENT
END:VCALENDAR
