BEGIN:VCALENDAR
VERSION:2.0
CALSCALE:GREGORIAN
PRODID:-//Diputació de Barcelona//DibaCMS//EN
BEGIN:VEVENT
UID:57199
DTSTAMP:20260420T172816
DTSTART:20231201T000000
DTEND:20240108T000000
SUMMARY:Exposició de pintura "Bon Nadal des de l'Aire"
LOCATION:Places i carrers del poble. 
METHOD:PUBLISH
X-WR-CALNAME:info@llinarsdelvalles.cat
X-WR-TIMEZONE:Europe/Madrid
DESCRIPTION:
URI:https://www.llinarsdelvalles.cat/actualitat/agenda/57199-exposicio-de-pintura-bon-nadal-des-de-laire.html
CLASS:PUBLIC
END:VEVENT
END:VCALENDAR
