BEGIN:VCALENDAR
VERSION:2.0
CALSCALE:GREGORIAN
PRODID:-//Diputació de Barcelona//DibaCMS//EN
BEGIN:VEVENT
UID:57200
DTSTAMP:20260420T155633
DTSTART:20231203T073000
DTEND:20231203T073000
SUMMARY:29a Caminada popular
LOCATION:
METHOD:PUBLISH
X-WR-CALNAME:info@llinarsdelvalles.cat
X-WR-TIMEZONE:Europe/Madrid
DESCRIPTION:Organitzada pel Centre Excurisonista de Llinars.

URI:https://www.llinarsdelvalles.cat/actualitat/agenda/29a-caminada-popular.html
CLASS:PUBLIC
END:VEVENT
END:VCALENDAR
