BEGIN:VCALENDAR
VERSION:2.0
CALSCALE:GREGORIAN
PRODID:-//Diputació de Barcelona//DibaCMS//EN
BEGIN:VEVENT
UID:57201
DTSTAMP:20260420T163119
DTSTART:20231202T180000
DTEND:20231202T193000
SUMMARY:Encesa de llums de Nadal
LOCATION:Carrer de l'Església, 1 08450 Llinars del Vallès
METHOD:PUBLISH
X-WR-CALNAME:info@llinarsdelvalles.cat
X-WR-TIMEZONE:Europe/Madrid
DESCRIPTION:La sra. Neula i el sr. Galet, acompanyats de la Nandina, arriben a Llinars per encendre l'espurna del Nadal i donar la benvinguda a quests dies de màgia i il·lusió.

URI:https://www.llinarsdelvalles.cat/actualitat/agenda/encesa-de-llums-de-nadal.html
CLASS:PUBLIC
END:VEVENT
END:VCALENDAR
