BEGIN:VCALENDAR
VERSION:2.0
CALSCALE:GREGORIAN
PRODID:-//Diputació de Barcelona//DibaCMS//EN
BEGIN:VEVENT
UID:57209
DTSTAMP:20260420T212543
DTSTART:20231201T000000
DTEND:20240106T000000
SUMMARY:Exposició del Grup de les Puntaires de Llinars
LOCATION:
METHOD:PUBLISH
X-WR-CALNAME:info@llinarsdelvalles.cat
X-WR-TIMEZONE:Europe/Madrid
DESCRIPTION:
URI:https://www.llinarsdelvalles.cat/actualitat/agenda/exposicio-del-grup-de-les-puntaires-de-llinars.html
CLASS:PUBLIC
END:VEVENT
END:VCALENDAR
