BEGIN:VCALENDAR
VERSION:2.0
CALSCALE:GREGORIAN
PRODID:-//Diputació de Barcelona//DibaCMS//EN
BEGIN:VEVENT
UID:57216
DTSTAMP:20260420T143959
DTSTART:20231215T000000
DTEND:20231223T000000
SUMMARY:Teatre immersiu “Portes obertes”
LOCATION:
METHOD:PUBLISH
X-WR-CALNAME:info@llinarsdelvalles.cat
X-WR-TIMEZONE:Europe/Madrid
DESCRIPTION:L'espectacle immersiu “Portes obertes”, d'INCA Teatre, ocuparà l'edifici de la Casa de colònies Mogent de Llinars del 15 al 17 i del 20 al 23 de desembre per oferir una experiència teatral diferent.

URI:https://www.llinarsdelvalles.cat/actualitat/agenda/teatre-immersiu-portes-obertes.html
CLASS:PUBLIC
END:VEVENT
END:VCALENDAR
