BEGIN:VCALENDAR
VERSION:2.0
CALSCALE:GREGORIAN
PRODID:-//Diputació de Barcelona//DibaCMS//EN
BEGIN:VEVENT
UID:57225
DTSTAMP:20260421T011407
DTSTART:20231227T000000
DTEND:20231231T000000
SUMMARY:el petit Circ Cric
LOCATION:08450 Llinars del Vallès
METHOD:PUBLISH
X-WR-CALNAME:info@llinarsdelvalles.cat
X-WR-TIMEZONE:Europe/Madrid
DESCRIPTION:Tortell Poltrona presenta "el petit Circ Cric" que durant 5 dies estarà instal·lat al Parc de la Serradora (Castell Nou).

URI:https://www.llinarsdelvalles.cat/actualitat/agenda/el-petit-circ-cric.html
CLASS:PUBLIC
END:VEVENT
END:VCALENDAR
