BEGIN:VCALENDAR
VERSION:2.0
CALSCALE:GREGORIAN
PRODID:-//Diputació de Barcelona//DibaCMS//EN
BEGIN:VEVENT
UID:57234
DTSTAMP:20260420T144735
DTSTART:20231226T000000
DTEND:20240105T000000
SUMMARY:Viu el Nadal a Llinars del Vallès
LOCATION:
METHOD:PUBLISH
X-WR-CALNAME:info@llinarsdelvalles.cat
X-WR-TIMEZONE:Europe/Madrid
DESCRIPTION:Del 26 de desembre de 2023 al 5 de gener de 2024

URI:https://www.llinarsdelvalles.cat/actualitat/agenda/57234-viu-el-nadal-a-llinars-del-valles.html
CLASS:PUBLIC
END:VEVENT
END:VCALENDAR
