BEGIN:VCALENDAR
VERSION:2.0
CALSCALE:GREGORIAN
PRODID:-//Diputació de Barcelona//DibaCMS//EN
BEGIN:VEVENT
UID:57243
DTSTAMP:20260421T025224
DTSTART:20240118T183000
DTEND:20240118T183000
SUMMARY:Taller adults - Bijuteria amb plàstic màgic
LOCATION:Av. Pau Casals, 26 08450 Llinars del Vallès
METHOD:PUBLISH
X-WR-CALNAME:info@llinarsdelvalles.cat
X-WR-TIMEZONE:Europe/Madrid
DESCRIPTION:A càrrec de Judit Torner de paperarrugat.

URI:https://www.llinarsdelvalles.cat/actualitat/agenda/taller-adults-bijuteria-amb-plastic-magic.html
CLASS:PUBLIC
END:VEVENT
END:VCALENDAR
