BEGIN:VCALENDAR
VERSION:2.0
CALSCALE:GREGORIAN
PRODID:-//Diputació de Barcelona//DibaCMS//EN
BEGIN:VEVENT
UID:57244
DTSTAMP:20260421T002632
DTSTART:20240124T170000
DTEND:20240124T170000
SUMMARY:Espectacle Familiar - El conillet que volia pa de pessic
LOCATION:Av. Pau Casals, 26 08450 Llinars del Vallès
METHOD:PUBLISH
X-WR-CALNAME:info@llinarsdelvalles.cat
X-WR-TIMEZONE:Europe/Madrid
DESCRIPTION:A càrrec de Marta Esmarats de Cacauet Teatre.
Celebració del 21è aniversari de la Biblioteca.

URI:https://www.llinarsdelvalles.cat/actualitat/agenda/espectacle-familiar-el-conillet-que-volia-pa-de-pessic.html
CLASS:PUBLIC
END:VEVENT
END:VCALENDAR
