BEGIN:VCALENDAR
VERSION:2.0
CALSCALE:GREGORIAN
PRODID:-//Diputació de Barcelona//DibaCMS//EN
BEGIN:VEVENT
UID:57245
DTSTAMP:20260420T103620
DTSTART:20240111T000000
DTEND:20240214T000000
SUMMARY:Exposició Km0 - Curs Relíquies de l'Art 2022-2023
LOCATION:Av. Pau Casals, 26 08450 Llinars del Vallès
METHOD:PUBLISH
X-WR-CALNAME:info@llinarsdelvalles.cat
X-WR-TIMEZONE:Europe/Madrid
DESCRIPTION:Inauguració, dijous 11 de gener a les 18 h.

URI:https://www.llinarsdelvalles.cat/actualitat/agenda/exposicio-km0-curs-reliquies-de-lart-2022-2023.html
CLASS:PUBLIC
END:VEVENT
END:VCALENDAR
