BEGIN:VCALENDAR
VERSION:2.0
CALSCALE:GREGORIAN
PRODID:-//Diputació de Barcelona//DibaCMS//EN
BEGIN:VEVENT
UID:57246
DTSTAMP:20260421T054056
DTSTART:20240125T183000
DTEND:20240125T183000
SUMMARY:Espectacle adults - Vi Vim
LOCATION:Av. Pau Casals, 26 08450 Llinars del Vallès
METHOD:PUBLISH
X-WR-CALNAME:info@llinarsdelvalles.cat
X-WR-TIMEZONE:Europe/Madrid
DESCRIPTION:A càrrec d'Eva Trullàs i Anna Casals, d'H6 Clown.
Celebració del 21è aniversari de la Biblioteca.

URI:https://www.llinarsdelvalles.cat/actualitat/agenda/espectacle-adults-vi-vim.html
CLASS:PUBLIC
END:VEVENT
END:VCALENDAR
