BEGIN:VCALENDAR
VERSION:2.0
CALSCALE:GREGORIAN
PRODID:-//Diputació de Barcelona//DibaCMS//EN
BEGIN:VEVENT
UID:57247
DTSTAMP:20260420T212451
DTSTART:20240120T110000
DTEND:20240120T110000
SUMMARY:Hora menuda - Tots Junts
LOCATION:Av. Pau Casals, 26 08450 Llinars del Vallès
METHOD:PUBLISH
X-WR-CALNAME:info@llinarsdelvalles.cat
X-WR-TIMEZONE:Europe/Madrid
DESCRIPTION:A càrrec d'Abada Blay de Minumusics.
D'1 a 3 anys. Inscripcions a www.bibliotecacancasas.cat

URI:https://www.llinarsdelvalles.cat/actualitat/agenda/hora-menuda-tots-junts.html
CLASS:PUBLIC
END:VEVENT
END:VCALENDAR
