BEGIN:VCALENDAR
VERSION:2.0
CALSCALE:GREGORIAN
PRODID:-//Diputació de Barcelona//DibaCMS//EN
BEGIN:VEVENT
UID:57251
DTSTAMP:20260421T062657
DTSTART:20240120T080000
DTEND:20240120T080000
SUMMARY:Aplec de Sant Sebastià
LOCATION:
METHOD:PUBLISH
X-WR-CALNAME:info@llinarsdelvalles.cat
X-WR-TIMEZONE:Europe/Madrid
DESCRIPTION:7a edició de l'Aplec de Sant Sebastià de Puigpedrós.

URI:https://www.llinarsdelvalles.cat/actualitat/agenda/57251-aplec-de-sant-sebastia.html
CLASS:PUBLIC
END:VEVENT
END:VCALENDAR
