BEGIN:VCALENDAR
VERSION:2.0
CALSCALE:GREGORIAN
PRODID:-//Diputació de Barcelona//DibaCMS//EN
BEGIN:VEVENT
UID:57260
DTSTAMP:20260421T024025
DTSTART:20240208T180000
DTEND:20240208T180000
SUMMARY:Carnestoltes 2024 - dijous 8 de febrer
LOCATION:08450 Llinars del Vallès
METHOD:PUBLISH
X-WR-CALNAME:info@llinarsdelvalles.cat
X-WR-TIMEZONE:Europe/Madrid
DESCRIPTION:L'Arribo
La Capgirada
Ball parlat dels disbarats
Dijous gras, botifarra menjaràs

URI:https://www.llinarsdelvalles.cat/actualitat/agenda/carnestoltes-2024-dijous-8-de-febrer.html
CLASS:PUBLIC
END:VEVENT
END:VCALENDAR
