BEGIN:VCALENDAR
VERSION:2.0
CALSCALE:GREGORIAN
PRODID:-//Diputació de Barcelona//DibaCMS//EN
BEGIN:VEVENT
UID:57264
DTSTAMP:20260421T055330
DTSTART:20240209T170000
DTEND:20240209T170000
SUMMARY:Carnestoltes xic - divendres 9 de febrer
LOCATION:Av. Pau Casals, 22-24 (Àrea central) 08450 Llinars del Vallès
METHOD:PUBLISH
X-WR-CALNAME:info@llinarsdelvalles.cat
X-WR-TIMEZONE:Europe/Madrid
DESCRIPTION:Ball de disfresses infantil i xocolatada per a la mainada.

URI:https://www.llinarsdelvalles.cat/actualitat/agenda/carnestoltes-xic-divendres-9-de-febrer.html
CLASS:PUBLIC
END:VEVENT
END:VCALENDAR
