BEGIN:VCALENDAR
VERSION:2.0
CALSCALE:GREGORIAN
PRODID:-//Diputació de Barcelona//DibaCMS//EN
BEGIN:VEVENT
UID:57266
DTSTAMP:20260421T034603
DTSTART:20240210T190000
DTEND:20240210T190000
SUMMARY:Carnestoles 2024 - dissabte 10 de febrer
LOCATION:
METHOD:PUBLISH
X-WR-CALNAME:info@llinarsdelvalles.cat
X-WR-TIMEZONE:Europe/Madrid
DESCRIPTION:Rua de Carnestoltes
Sermó del Rei Carnestoltes
Desfilada i concurs de disfresses
Sopar popular
Ball
Dj Sendo

URI:https://www.llinarsdelvalles.cat/actualitat/agenda/carnestoles-2024-dissabte-10-de-febrer.html
CLASS:PUBLIC
END:VEVENT
END:VCALENDAR
