BEGIN:VCALENDAR
VERSION:2.0
CALSCALE:GREGORIAN
PRODID:-//Diputació de Barcelona//DibaCMS//EN
BEGIN:VEVENT
UID:57273
DTSTAMP:20260421T011330
DTSTART:20240128T180000
DTEND:20240128T200000
SUMMARY:Cinexic: 'Ratolins i guineus'
LOCATION:Centre Excursionista de Llinars (Pl. Països Catalans) 
METHOD:PUBLISH
X-WR-CALNAME:info@llinarsdelvalles.cat
X-WR-TIMEZONE:Europe/Madrid
DESCRIPTION:Primera pel·lícula del cicle

Recomanada a partir de 5 anys

Entrada gratuïta

URI:https://www.llinarsdelvalles.cat/actualitat/agenda/cinexic-ratolins-i-guineus.html
CLASS:PUBLIC
END:VEVENT
END:VCALENDAR
