BEGIN:VCALENDAR
VERSION:2.0
CALSCALE:GREGORIAN
PRODID:-//Diputació de Barcelona//DibaCMS//EN
BEGIN:VEVENT
UID:57276
DTSTAMP:20260420T235932
DTSTART:20240428T180000
DTEND:20240428T200000
SUMMARY:Cinexic
LOCATION:Centre Excursionista de Llinars (Pl. Països Catalans) 
METHOD:PUBLISH
X-WR-CALNAME:info@llinarsdelvalles.cat
X-WR-TIMEZONE:Europe/Madrid
DESCRIPTION:El viatge d’Ernest i Celestine (+5)

Entrada gratuïta

URI:https://www.llinarsdelvalles.cat/actualitat/agenda/57276-cinexic.html
CLASS:PUBLIC
END:VEVENT
END:VCALENDAR
