BEGIN:VCALENDAR
VERSION:2.0
CALSCALE:GREGORIAN
PRODID:-//Diputació de Barcelona//DibaCMS//EN
BEGIN:VEVENT
UID:57277
DTSTAMP:20260420T225030
DTSTART:20240526T180000
DTEND:20240526T200000
SUMMARY:Cinexic
LOCATION:Centre Excursionista de Llinars (Pl. Països Catalans) 
METHOD:PUBLISH
X-WR-CALNAME:info@llinarsdelvalles.cat
X-WR-TIMEZONE:Europe/Madrid
DESCRIPTION:La increïble història de la pera gegant (+4)

Entrada gratuïta

URI:https://www.llinarsdelvalles.cat/actualitat/agenda/57277-cinexic.html
CLASS:PUBLIC
END:VEVENT
END:VCALENDAR
