BEGIN:VCALENDAR
VERSION:2.0
CALSCALE:GREGORIAN
PRODID:-//Diputació de Barcelona//DibaCMS//EN
BEGIN:VEVENT
UID:57283
DTSTAMP:20260420T144700
DTSTART:20240316T170000
DTEND:20240324T170000
SUMMARY:Veniu a mi - La Passió de Llinars del Vallès
LOCATION:Teatre Auditori de Llinars del Vallès 
METHOD:PUBLISH
X-WR-CALNAME:info@llinarsdelvalles.cat
X-WR-TIMEZONE:Europe/Madrid
DESCRIPTION:16, 17, 23 i 24 de març a les 17 h 

URI:https://www.llinarsdelvalles.cat/actualitat/agenda/57283-veniu-a-mi-la-passio-de-llinars-del-valles.html
CLASS:PUBLIC
END:VEVENT
END:VCALENDAR
