BEGIN:VCALENDAR
VERSION:2.0
CALSCALE:GREGORIAN
PRODID:-//Diputació de Barcelona//DibaCMS//EN
BEGIN:VEVENT
UID:57300
DTSTAMP:20260421T032417
DTSTART:20240221T200000
DTEND:20240221T200000
SUMMARY:Taller adults - Enfeltrem amb aigua i sabó
LOCATION:Av. Pau Casals, 26 08450 Llinars del Vallès
METHOD:PUBLISH
X-WR-CALNAME:info@llinarsdelvalles.cat
X-WR-TIMEZONE:Europe/Madrid
DESCRIPTION:A càrrec de Niu de Llum.

URI:https://www.llinarsdelvalles.cat/actualitat/agenda/taller-adults-enfeltrem-amb-aigua-i-sabo.html
CLASS:PUBLIC
END:VEVENT
END:VCALENDAR
