BEGIN:VCALENDAR
VERSION:2.0
CALSCALE:GREGORIAN
PRODID:-//Diputació de Barcelona//DibaCMS//EN
BEGIN:VEVENT
UID:57301
DTSTAMP:20260421T043920
DTSTART:20240218T120000
DTEND:20240421T140000
SUMMARY:Exposició 'La Passió, paraula i emoció'
LOCATION:C/ Frederic Marés (antic CAP) 08450 Llinars del Vallès
METHOD:PUBLISH
X-WR-CALNAME:info@llinarsdelvalles.cat
X-WR-TIMEZONE:Europe/Madrid
DESCRIPTION:Inauguració: 18 de febrer a les 12 h.
L'exposició es podrà visitar fins el 21 d'abril de 2024.

URI:https://www.llinarsdelvalles.cat/actualitat/agenda/exposicio-la-passio-paraula-i-emocio.html
CLASS:PUBLIC
END:VEVENT
END:VCALENDAR
