BEGIN:VCALENDAR
VERSION:2.0
CALSCALE:GREGORIAN
PRODID:-//Diputació de Barcelona//DibaCMS//EN
BEGIN:VEVENT
UID:57302
DTSTAMP:20260421T043711
DTSTART:20240211T170000
DTEND:20240211T170000
SUMMARY:Coralina, la serventa amorosa
LOCATION:
METHOD:PUBLISH
X-WR-CALNAME:info@llinarsdelvalles.cat
X-WR-TIMEZONE:Europe/Madrid
DESCRIPTION:Una delícia escènica de la companyia La Perla 29 que tindrà lloc al Teatre Auditori en dues sessions: 17 h i 20.30 h.

URI:https://www.llinarsdelvalles.cat/actualitat/agenda/coralina-la-serventa-amorosa.html
CLASS:PUBLIC
END:VEVENT
END:VCALENDAR
