BEGIN:VCALENDAR
VERSION:2.0
CALSCALE:GREGORIAN
PRODID:-//Diputació de Barcelona//DibaCMS//EN
BEGIN:VEVENT
UID:57303
DTSTAMP:20260421T045445
DTSTART:20240216T183000
DTEND:20240216T183000
SUMMARY:Taller familiar - Un bosc de textures: dibuixem amb elements de la natura
LOCATION:Av. Pau Casals, 26 08450 Llinars del Vallès
METHOD:PUBLISH
X-WR-CALNAME:info@llinarsdelvalles.cat
X-WR-TIMEZONE:Europe/Madrid
DESCRIPTION:A càrrec de Catàrtic.

URI:https://www.llinarsdelvalles.cat/actualitat/agenda/taller-familiar-un-bosc-de-textures-dibuixem-amb-elements-de-la-natura.html
CLASS:PUBLIC
END:VEVENT
END:VCALENDAR
